BEGIN:VCALENDAR
VERSION:2.0
PRODID:Events Booking
BEGIN:VEVENT
UID:69e8b57ce7682
SUMMARY:[E-BIKE | Intermédiaire] Martigny
DESCRIPTION:
DTSTART:20200616T070000Z
DTEND:20200616T150000Z
DTSTAMP:20260422T134812Z
ORGANIZER;CN=Exoride:MAILTO:webmaster@exoride.net
END:VEVENT
END:VCALENDAR