BEGIN:VCALENDAR
VERSION:2.0
PRODID:Events Booking
BEGIN:VEVENT
UID:69e8a51b9470a
SUMMARY:[E-BIKE | Intermédiaire] Martigny
DESCRIPTION:
DTSTART:20200618T070000Z
DTEND:20200618T150000Z
DTSTAMP:20260422T123819Z
ORGANIZER;CN=Exoride:MAILTO:webmaster@exoride.net
END:VEVENT
END:VCALENDAR