BEGIN:VCALENDAR
VERSION:2.0
PRODID:Events Booking
BEGIN:VEVENT
UID:69e8b51e3a485
SUMMARY:[E-BIKE | Débutants] Martigny
DESCRIPTION:
DTSTART:20200623T070000Z
DTEND:20200623T150000Z
DTSTAMP:20260422T134638Z
ORGANIZER;CN=Exoride:MAILTO:webmaster@exoride.net
END:VEVENT
END:VCALENDAR