BEGIN:VCALENDAR
VERSION:2.0
PRODID:Events Booking
BEGIN:VEVENT
UID:69e8b3a5078c0
SUMMARY:Enduro | Fully - avancé
DESCRIPTION:
DTSTART:20200509T063000Z
DTEND:20200509T153000Z
DTSTAMP:20260422T134021Z
ORGANIZER;CN=Exoride:MAILTO:webmaster@exoride.net
END:VEVENT
END:VCALENDAR