BEGIN:VCALENDAR
VERSION:2.0
PRODID:Events Booking
BEGIN:VEVENT
UID:69e8b3af4cf8f
SUMMARY:Enduro | Fully - intermédiaire
DESCRIPTION:
DTSTART:20200511T063000Z
DTEND:20200511T153000Z
DTSTAMP:20260422T134031Z
ORGANIZER;CN=Exoride:MAILTO:webmaster@exoride.net
END:VEVENT
END:VCALENDAR