BEGIN:VCALENDAR
VERSION:2.0
PRODID:Events Booking
BEGIN:VEVENT
UID:69e8b3a40c35b
SUMMARY:[E-BIKE | Débutants] Martigny
DESCRIPTION:
DTSTART:20200512T070000Z
DTEND:20200512T150000Z
DTSTAMP:20260422T134020Z
ORGANIZER;CN=Exoride:MAILTO:webmaster@exoride.net
END:VEVENT
END:VCALENDAR