BEGIN:VCALENDAR
VERSION:2.0
PRODID:Events Booking
BEGIN:VEVENT
UID:69e8b424a88e7
SUMMARY:[E-BIKE | Intermédiaire] Martigny
DESCRIPTION:
DTSTART:20200514T070000Z
DTEND:20200514T150000Z
DTSTAMP:20260422T134228Z
ORGANIZER;CN=Exoride:MAILTO:webmaster@exoride.net
END:VEVENT
END:VCALENDAR