BEGIN:VCALENDAR
VERSION:2.0
PRODID:Events Booking
BEGIN:VEVENT
UID:69e8bb0d00181
SUMMARY:Les Rochers de Naye
DESCRIPTION:[widgetkit id=\"84\" name=\"Slideshow - aper&ccedil\;u - Naye -
  FR\"]
DTSTART:20150703T070000Z
DTEND:20150703T150000Z
DTSTAMP:20260422T141157Z
ORGANIZER;CN=Exoride:MAILTO:webmaster@exoride.net
END:VEVENT
END:VCALENDAR