BEGIN:VCALENDAR
VERSION:2.0
PRODID:Events Booking
BEGIN:VEVENT
UID:69e8babf1395e
SUMMARY:[VTT DH | Débutants] Verbier
DESCRIPTION:
DTSTART:20200715T063000Z
DTEND:20200715T153000Z
DTSTAMP:20260422T141039Z
ORGANIZER;CN=Exoride:MAILTO:webmaster@exoride.net
END:VEVENT
END:VCALENDAR