BEGIN:VCALENDAR
VERSION:2.0
PRODID:Events Booking
BEGIN:VEVENT
UID:69e8a622065fe
SUMMARY:[VTT DH | Intermédiaire] Verbier
DESCRIPTION:
DTSTART:20200804T063000Z
DTEND:20200804T153000Z
DTSTAMP:20260422T124242Z
ORGANIZER;CN=Exoride:MAILTO:webmaster@exoride.net
END:VEVENT
END:VCALENDAR