BEGIN:VCALENDAR
VERSION:2.0
PRODID:Events Booking
BEGIN:VEVENT
UID:69e8a62140ef2
SUMMARY:[VTT DH | Débutants] Verbier
DESCRIPTION:
DTSTART:20200811T063000Z
DTEND:20200811T153000Z
DTSTAMP:20260422T124241Z
ORGANIZER;CN=Exoride:MAILTO:webmaster@exoride.net
END:VEVENT
END:VCALENDAR