BEGIN:VCALENDAR
VERSION:2.0
PRODID:Events Booking
BEGIN:VEVENT
UID:69e8c84436c33
SUMMARY:[VTT DH | Intermédiaire] Verbier
DESCRIPTION:
DTSTART:20200820T063000Z
DTEND:20200820T153000Z
DTSTAMP:20260422T150820Z
ORGANIZER;CN=Exoride:MAILTO:webmaster@exoride.net
END:VEVENT
END:VCALENDAR