BEGIN:VCALENDAR
VERSION:2.0
PRODID:Events Booking
BEGIN:VEVENT
UID:69e8a5fb35f56
SUMMARY:[VTT | Intermédiaire] Verbier
DESCRIPTION:
DTSTART:20200828T063000Z
DTEND:20200828T153000Z
DTSTAMP:20260422T124203Z
ORGANIZER;CN=Exoride:MAILTO:webmaster@exoride.net
END:VEVENT
END:VCALENDAR