BEGIN:VCALENDAR
VERSION:2.0
PRODID:Events Booking
BEGIN:VEVENT
UID:69e8b36627542
SUMMARY:[E-BIKE | Cours privé] - ref ML200526
DESCRIPTION:
DTSTART:20200526T110000Z
DTEND:20200526T150000Z
DTSTAMP:20260422T133918Z
ORGANIZER;CN=Exoride:MAILTO:webmaster@exoride.net
END:VEVENT
END:VCALENDAR