BEGIN:VCALENDAR
VERSION:2.0
PRODID:Events Booking
BEGIN:VEVENT
UID:69e8a74c4cf33
SUMMARY:Val d'Anniviers | niveau 3/4 [COMPLET]
DESCRIPTION:
 Technique(?) 3/4
 Physique(?) 3/4
 Durée 8 heures
 BIKE&
 nbsp\;&nbsp\;&nbsp\;E-BIKE&nbsp\;(?)
 
DTSTART:20200702T060000Z
DTEND:20200702T160000Z
DTSTAMP:20260422T124740Z
ORGANIZER;CN=Exoride:MAILTO:webmaster@exoride.net
END:VEVENT
END:VCALENDAR