BEGIN:VCALENDAR
VERSION:2.0
PRODID:Events Booking
BEGIN:VEVENT
UID:69e8b9199e858
SUMMARY:Cours pilotage privé - ref 200724
DESCRIPTION:
DTSTART:20200724T103000Z
DTEND:20200724T150000Z
DTSTAMP:20260422T140337Z
ORGANIZER;CN=Exoride:MAILTO:webmaster@exoride.net
END:VEVENT
END:VCALENDAR