BEGIN:VCALENDAR
VERSION:2.0
PRODID:Events Booking
BEGIN:VEVENT
UID:69e8b9194832e
SUMMARY:  Cours pilotage privé - 01.07.2020 - ref 200701
DESCRIPTION:
 Technique(?) 3/4
 Physique(?) 3/4
 Durée 8 heures
 BIKE
    E-BIKE (?)
 
DTSTART:20200702T070000Z
DTEND:20200702T150000Z
DTSTAMP:20260422T140337Z
ORGANIZER;CN=Exoride:MAILTO:webmaster@exoride.net
END:VEVENT
END:VCALENDAR