BEGIN:VCALENDAR
VERSION:2.0
PRODID:Events Booking
BEGIN:VEVENT
UID:69e8b9629849f
SUMMARY:[VTT | Privé] Entremont / Bagnes
DESCRIPTION:
DTSTART:20200717T070000Z
DTEND:20200717T150000Z
DTSTAMP:20260422T140450Z
ORGANIZER;CN=Exoride:MAILTO:webmaster@exoride.net
END:VEVENT
END:VCALENDAR