BEGIN:VCALENDAR
VERSION:2.0
PRODID:Events Booking
BEGIN:VEVENT
UID:69e8cd895216a
SUMMARY:[VTT DH | Intermédiaire] Verbier
DESCRIPTION:
DTSTART:20200829T063000Z
DTEND:20200829T110000Z
DTSTAMP:20260422T153049Z
ORGANIZER;CN=Exoride:MAILTO:webmaster@exoride.net
END:VEVENT
END:VCALENDAR