BEGIN:VCALENDAR
VERSION:2.0
PRODID:Events Booking
BEGIN:VEVENT
UID:69e8badb8afb4
SUMMARY:[VTT  | Privé] Verbier
DESCRIPTION:
DTSTART:20200805T063000Z
DTEND:20200805T153000Z
DTSTAMP:20260422T141107Z
ORGANIZER;CN=Exoride:MAILTO:webmaster@exoride.net
END:VEVENT
END:VCALENDAR