BEGIN:VCALENDAR
VERSION:2.0
PRODID:Events Booking
BEGIN:VEVENT
UID:69e8b40be249e
SUMMARY:Le Grand Saint-Bernard
DESCRIPTION:[widgetkit id=\"88\" name=\"Slideshow - aper&ccedil\;u - Saint 
 Bernard - FR\"]
DTSTART:20150905T070000Z
DTEND:20150905T140000Z
DTSTAMP:20260422T134203Z
ORGANIZER;CN=Exoride:MAILTO:webmaster@exoride.net
END:VEVENT
END:VCALENDAR