BEGIN:VCALENDAR
VERSION:2.0
PRODID:Events Booking
BEGIN:VEVENT
UID:69e8cb90a1809
SUMMARY:[Ebike | Débutants] Verbier
DESCRIPTION:
DTSTART:20200829T110000Z
DTEND:20200829T150000Z
DTSTAMP:20260422T152224Z
ORGANIZER;CN=Exoride:MAILTO:webmaster@exoride.net
END:VEVENT
END:VCALENDAR