BEGIN:VCALENDAR
VERSION:2.0
PRODID:Events Booking
BEGIN:VEVENT
UID:69e8b3aa89a56
SUMMARY:Le Portail de Fully
DESCRIPTION:[widgetkit id=\"87\" name=\"Slideshow - aper&ccedil\;u - Portai
 l de Fully - FR\"]
DTSTART:20161008T070000Z
DTEND:20161008T150000Z
DTSTAMP:20260422T134026Z
ORGANIZER;CN=Exoride:MAILTO:webmaster@exoride.net
END:VEVENT
END:VCALENDAR