BEGIN:VCALENDAR
VERSION:2.0
PRODID:Events Booking
BEGIN:VEVENT
UID:69e8c87cb1ce0
SUMMARY:[VTT | Débutants] Verbier
DESCRIPTION:
DTSTART:20201002T073000Z
DTEND:20201002T153000Z
DTSTAMP:20260422T150916Z
ORGANIZER;CN=Exoride:MAILTO:webmaster@exoride.net
END:VEVENT
END:VCALENDAR