BEGIN:VCALENDAR
VERSION:2.0
PRODID:Events Booking
BEGIN:VEVENT
UID:69e8b597cc5c6
SUMMARY:Endu'Rock the Casbah | Octobre 2021
DESCRIPTION:[widgetkit id=\"1\"] 
 
 Technique(?) 3/4
 Physique(?) 3/4
 
 Durée 8 jours
 BIKE   E-BIKE (?)
 
DTSTART:20211009T070000Z
DTEND:20211016T100000Z
DTSTAMP:20260422T134839Z
ORGANIZER;CN=Exoride:MAILTO:webmaster@exoride.net
END:VEVENT
END:VCALENDAR