BEGIN:VCALENDAR
VERSION:2.0
PRODID:Events Booking
BEGIN:VEVENT
UID:69e8a361d963b
SUMMARY:Bas-Valais | niveau 3/4
DESCRIPTION:[widgetkit id=\"298\" name=\"Slideshow - aperçu - Shuttles - F
 R\"]
  
 
 Technique(?) 3\,5/4
 Physique(?) 2/4
 Durée 1 jour
 BIK
 E   E-BIKE (?)
 
DTSTART:20200905T070000Z
DTEND:20200905T160000Z
DTSTAMP:20260422T123057Z
ORGANIZER;CN=Exoride:MAILTO:webmaster@exoride.net
END:VEVENT
END:VCALENDAR