BEGIN:VCALENDAR
VERSION:2.0
PRODID:Events Booking
BEGIN:VEVENT
UID:69e8cd5f1dbfc
SUMMARY:[VTT | cours privé] Verbier - ref 200903
DESCRIPTION:
DTSTART:20200903T073000Z
DTEND:20200903T153000Z
DTSTAMP:20260422T153007Z
ORGANIZER;CN=Exoride:MAILTO:webmaster@exoride.net
END:VEVENT
END:VCALENDAR