BEGIN:VCALENDAR
VERSION:2.0
PRODID:Events Booking
BEGIN:VEVENT
UID:69e8b966669fa
SUMMARY:[VTT | Cours privé] Verbier
DESCRIPTION:
DTSTART:20201022T073000Z
DTEND:20201022T153000Z
DTSTAMP:20260422T140454Z
ORGANIZER;CN=Exoride:MAILTO:webmaster@exoride.net
END:VEVENT
END:VCALENDAR