BEGIN:VCALENDAR
VERSION:2.0
PRODID:Events Booking
BEGIN:VEVENT
UID:69e8b7ef7c87f
SUMMARY:Le tour des Muverans
DESCRIPTION:[widgetkit id=\"89\" name=\"Slideshow - aper&ccedil\;u - Euseig
 ne - FR\"]
DTSTART:20161009T070000Z
DTEND:20161009T150000Z
DTSTAMP:20260422T135839Z
ORGANIZER;CN=Exoride:MAILTO:webmaster@exoride.net
END:VEVENT
END:VCALENDAR