BEGIN:VCALENDAR
VERSION:2.0
PRODID:Events Booking
BEGIN:VEVENT
UID:69e8a6239cebc
SUMMARY:[VTT | Intermédiaire] Verbier
DESCRIPTION:
DTSTART:20200930T073000Z
DTEND:20200930T153000Z
DTSTAMP:20260422T124243Z
ORGANIZER;CN=Exoride:MAILTO:webmaster@exoride.net
END:VEVENT
END:VCALENDAR