BEGIN:VCALENDAR
VERSION:2.0
PRODID:Events Booking
BEGIN:VEVENT
UID:69e8a59ad27bc
SUMMARY:[VTT | Intermédiaire] Verbier
DESCRIPTION:
DTSTART:20201013T073000Z
DTEND:20201013T153000Z
DTSTAMP:20260422T124026Z
ORGANIZER;CN=Exoride:MAILTO:webmaster@exoride.net
END:VEVENT
END:VCALENDAR