BEGIN:VCALENDAR
VERSION:2.0
PRODID:Events Booking
BEGIN:VEVENT
UID:69e8a4ee2b8ab
SUMMARY:[E-BIKE | Débutants] Martigny
DESCRIPTION:
DTSTART:20201114T080000Z
DTEND:20201114T160000Z
DTSTAMP:20260422T123734Z
ORGANIZER;CN=Exoride:MAILTO:webmaster@exoride.net
END:VEVENT
END:VCALENDAR