BEGIN:VCALENDAR
VERSION:2.0
PRODID:Events Booking
BEGIN:VEVENT
UID:69e8a4fd4f2c7
SUMMARY:[E-BIKE | Débutants] Martigny
DESCRIPTION:
LOCATION:Chemin du Rhône 135\, 1926 Fully\, Suisse
DTSTART:20210306T080000Z
DTEND:20210306T160000Z
DTSTAMP:20260422T123749Z
ORGANIZER;CN=Exoride:MAILTO:webmaster@exoride.net
GEO:46.125533;7.087311
X-APPLE-STRUCTURED-LOCATION;VALUE=URI;X-ADDRESS=Chemin du Rhône 135\, 1926
  Fully\, Suisse;X-APPLE-RADIUS=72;X-TITLE=Parking de Branson:46.125533;7.0
 87311
END:VEVENT
END:VCALENDAR