BEGIN:VCALENDAR
VERSION:2.0
PRODID:Events Booking
BEGIN:VEVENT
UID:69e8a3651c3ce
SUMMARY:Valais Express | Juillet 2016
DESCRIPTION:[widgetkit id=\"69\" name=\"Slideshow - aper&ccedil\;u - Valais
  Express - FR\"]
DTSTART:20160709T100000Z
DTEND:20160710T160000Z
DTSTAMP:20260422T123101Z
ORGANIZER;CN=Exoride:MAILTO:webmaster@exoride.net
END:VEVENT
END:VCALENDAR