BEGIN:VCALENDAR
VERSION:2.0
PRODID:Events Booking
BEGIN:VEVENT
UID:69e8cd1a9076d
SUMMARY:Cours pilotage privé - ref 200917
DESCRIPTION:
DTSTART:20200917T113000Z
DTEND:20200917T153000Z
DTSTAMP:20260422T152858Z
ORGANIZER;CN=Exoride:MAILTO:webmaster@exoride.net
END:VEVENT
END:VCALENDAR