BEGIN:VCALENDAR
VERSION:2.0
PRODID:Events Booking
BEGIN:VEVENT
UID:69e8ba7dc68af
SUMMARY:[VTT | Intermédiaire] Verbier
DESCRIPTION:
DTSTART:20201017T073000Z
DTEND:20201017T153000Z
DTSTAMP:20260422T140933Z
ORGANIZER;CN=Exoride:MAILTO:webmaster@exoride.net
END:VEVENT
END:VCALENDAR