BEGIN:VCALENDAR
VERSION:2.0
PRODID:Events Booking
BEGIN:VEVENT
UID:69e8ccfd3051e
SUMMARY:Cours pilotage privé - ref 201012
DESCRIPTION:
DTSTART:20201012T063000Z
DTEND:20201012T110000Z
DTSTAMP:20260422T152829Z
ORGANIZER;CN=Exoride:MAILTO:webmaster@exoride.net
END:VEVENT
END:VCALENDAR