BEGIN:VCALENDAR
VERSION:2.0
PRODID:Events Booking
BEGIN:VEVENT
UID:69e8cd61018d8
SUMMARY:[VTT | Privé] Verbier
DESCRIPTION:
DTSTART:20201019T073000Z
DTEND:20201019T153000Z
DTSTAMP:20260422T153009Z
ORGANIZER;CN=Exoride:MAILTO:webmaster@exoride.net
END:VEVENT
END:VCALENDAR