BEGIN:VCALENDAR
VERSION:2.0
PRODID:Events Booking
BEGIN:VEVENT
UID:69e8a4efbd086
SUMMARY:Swiss Made | Août 2015
DESCRIPTION:[widgetkit id=\"68\" name=\"Slideshow - aper&ccedil\;u - Valais
  Express - FR\"]
DTSTART:20150801T100000Z
DTEND:20150808T100000Z
DTSTAMP:20260422T123735Z
ORGANIZER;CN=Exoride:MAILTO:webmaster@exoride.net
END:VEVENT
END:VCALENDAR