BEGIN:VCALENDAR
VERSION:2.0
PRODID:Events Booking
BEGIN:VEVENT
UID:69e8b5ef91a0c
SUMMARY:Endur'Hautes Alpes | Juillet 2016
DESCRIPTION:[widgetkit id=\"186\" name=\"Slideshow - aper&ccedil\;u - Endur
 ock - FR\"]
DTSTART:20160718T070000Z
DTEND:20160724T100000Z
DTSTAMP:20260422T135007Z
ORGANIZER;CN=Exoride:MAILTO:webmaster@exoride.net
END:VEVENT
END:VCALENDAR