BEGIN:VCALENDAR
VERSION:2.0
PRODID:Events Booking
BEGIN:VEVENT
UID:69e8b46ead070
SUMMARY:Vallée du Rhône/Fiesch | Enduro/freeride
DESCRIPTION:[widgetkit id=\"192\" name=\"Slideshow - aper&ccedil\;u - Verbi
 er - FR\"]
DTSTART:20150812T070000Z
DTEND:20150812T160000Z
DTSTAMP:20260422T134342Z
ORGANIZER;CN=Exoride:MAILTO:webmaster@exoride.net
END:VEVENT
END:VCALENDAR