BEGIN:VCALENDAR
VERSION:2.0
PRODID:Events Booking
BEGIN:VEVENT
UID:69e8a364a153c
SUMMARY:Valais central | niveau 3/4 (13)
DESCRIPTION:[widgetkit id=\"298\" name=\"Slideshow - aperçu - Shuttles - F
 R\"]
  
 
 Technique(?) 3\,5/4
 Physique(?) 2/4
 Durée 1 jour
 BIK
 E   E-BIKE (?)
 
DTSTART:20201107T080000Z
DTEND:20201107T170000Z
DTSTAMP:20260422T123100Z
ORGANIZER;CN=Exoride:MAILTO:webmaster@exoride.net
END:VEVENT
END:VCALENDAR