BEGIN:VCALENDAR
VERSION:2.0
PRODID:Events Booking
BEGIN:VEVENT
UID:69e88f5ef3de1
SUMMARY:Valais Express | Privé
DESCRIPTION:[widgetkit id=\"69\" name=\"Slideshow - aperçu - Valais Expres
 s - FR\"]
 &nbsp\;
 
 Technique(?) 3/4
 Physique(?) 2/4
 Durée 2 jou
 rs/2 nuits
 BIKE&nbsp\;&nbsp\;&nbsp\;E-BIKE&nbsp\;(?)
 
LOCATION:Route de la Gare 25\, 1937 Orsières
DTSTART:20210827T070000Z
DTEND:20210829T160000Z
DTSTAMP:20260422T110534Z
ORGANIZER;CN=Exoride:MAILTO:webmaster@exoride.net
GEO:46.028597;7.143619
X-APPLE-STRUCTURED-LOCATION;VALUE=URI;X-ADDRESS=Route de la Gare 25\, 1937 
 Orsières;X-APPLE-RADIUS=72;X-TITLE=Hôtel Terminus:46.028597;7.143619
END:VEVENT
END:VCALENDAR