BEGIN:VCALENDAR
VERSION:2.0
PRODID:Events Booking
BEGIN:VEVENT
UID:69e8a32deb880
SUMMARY:Valais Express | Septembre 2016
DESCRIPTION:[widgetkit id=\"69\" name=\"Slideshow - aper&ccedil\;u - Valais
  Express - FR\"]
DTSTART:20160923T120000Z
DTEND:20160925T160000Z
DTSTAMP:20260422T123005Z
ORGANIZER;CN=Exoride:MAILTO:webmaster@exoride.net
END:VEVENT
END:VCALENDAR