BEGIN:VCALENDAR
VERSION:2.0
PRODID:Events Booking
BEGIN:VEVENT
UID:69e8a47b814c1
SUMMARY:Les Pyramides d'Euseigne
DESCRIPTION:[widgetkit id=\"83\" name=\"Slideshow - aper&ccedil\;u - Euseig
 ne - FR\"]
DTSTART:20160423T070000Z
DTEND:20160423T150000Z
DTSTAMP:20260422T123539Z
ORGANIZER;CN=Exoride:MAILTO:webmaster@exoride.net
END:VEVENT
END:VCALENDAR