BEGIN:VCALENDAR
VERSION:2.0
PRODID:Events Booking
BEGIN:VEVENT
UID:69e8b3670d4a8
SUMMARY:[EXO'kids] Privé
DESCRIPTION:
DTSTART:20210518T110000Z
DTEND:20210518T150000Z
DTSTAMP:20260422T133919Z
ORGANIZER;CN=Exoride:MAILTO:webmaster@exoride.net
END:VEVENT
END:VCALENDAR