BEGIN:VCALENDAR
VERSION:2.0
PRODID:Events Booking
BEGIN:VEVENT
UID:69e8a5f9df3f5
SUMMARY:E-BIKE | Privé
DESCRIPTION:
LOCATION:La Douay\, 1937 Orsières\, Suisse
DTSTART:20210528T073000Z
DTEND:20210528T150000Z
DTSTAMP:20260422T124201Z
ORGANIZER;CN=Exoride:MAILTO:webmaster@exoride.net
GEO:46.051844;7.149319
X-APPLE-STRUCTURED-LOCATION;VALUE=URI;X-ADDRESS=La Douay\, 1937 Orsières\,
  Suisse;X-APPLE-RADIUS=72;X-TITLE=Parking de la Douay:46.051844;7.149319
END:VEVENT
END:VCALENDAR