BEGIN:VCALENDAR
VERSION:2.0
PRODID:Events Booking
BEGIN:VEVENT
UID:69e8b474801de
SUMMARY:Cours de pilotage VTT | Niveau débutant/intermédiaire
DESCRIPTION:[widgetkit id=\"97\" name=\"Slideshow - aper&ccedil\;u - Cours 
 pilotage - FR\"]
 Ce cours se d&eacute\;roule sur le bikepark de Verbier 
 (VS)
 Points abord&eacute\;s : Franchissements\, parties raides\, virages
  &agrave\; plat\, virages relev&eacute\;s\, petits sauts. Plus d'infos &gt
 \;&gt\;
DTSTART:20160702T070000Z
DTEND:20160702T150000Z
DTSTAMP:20260422T134348Z
ORGANIZER;CN=Exoride:MAILTO:webmaster@exoride.net
END:VEVENT
END:VCALENDAR