BEGIN:VCALENDAR
VERSION:2.0
PRODID:Events Booking
BEGIN:VEVENT
UID:69e8a4aab2936
SUMMARY:[E-BIKE] | Fully/Saillon - Privé
DESCRIPTION:[widgetkit id=\"298\" name=\"Slideshow - aperçu - Shuttles - F
 R\"]
 &nbsp\;
 
 Technique(?) 3\,5/4
 Physique(?) 2/4
 Durée 1 jour
 
 BIKE&nbsp\;&nbsp\;&nbsp\;E-BIKE&nbsp\;(?)
 
LOCATION:Route de Martigny 59\, 1926 Fully\, Suisse
DTSTART:20210613T073000Z
DTEND:20210613T153000Z
DTSTAMP:20260422T123626Z
ORGANIZER;CN=Exoride:MAILTO:webmaster@exoride.net
GEO:46.134548;7.111749
X-APPLE-STRUCTURED-LOCATION;VALUE=URI;X-ADDRESS=Route de Martigny 59\, 1926
  Fully\, Suisse;X-APPLE-RADIUS=72;X-TITLE=Parking du Stade de Fully:46.134
 548;7.111749
END:VEVENT
END:VCALENDAR