BEGIN:VCALENDAR
VERSION:2.0
PRODID:Events Booking
BEGIN:VEVENT
UID:69e8a4a8810c9
SUMMARY:Bas-Valais | niveau 3/4
DESCRIPTION:[widgetkit id=\"298\" name=\"Slideshow - aperçu - Shuttles - F
 R\"]
 &nbsp\;
 
 Technique(?) 3\,5/4
 Physique(?) 2/4
 Durée 1 jour
 
 BIKE&nbsp\;&nbsp\;&nbsp\;E-BIKE&nbsp\;(?)
 
LOCATION:Le Châble TV\, 1934 Bagnes\, Suisse
DTSTART:20210704T070000Z
DTEND:20210704T160000Z
DTSTAMP:20260422T123624Z
ORGANIZER;CN=Exoride:MAILTO:webmaster@exoride.net
GEO:46.078086;7.21497
X-APPLE-STRUCTURED-LOCATION;VALUE=URI;X-ADDRESS=Le Châble TV\, 1934 Bagnes
 \, Suisse;X-APPLE-RADIUS=72;X-TITLE=Parking du Châble:46.078086;7.21497
END:VEVENT
END:VCALENDAR